BEGIN:VCALENDAR
VERSION:2.0
PRODID:-//City of Hurley - ECPv6.15.17.1//NONSGML v1.0//EN
CALSCALE:GREGORIAN
METHOD:PUBLISH
X-WR-CALNAME:City of Hurley
X-ORIGINAL-URL:https://cityofhurleywi.org
X-WR-CALDESC:Events for City of Hurley
REFRESH-INTERVAL;VALUE=DURATION:PT1H
X-Robots-Tag:noindex
X-PUBLISHED-TTL:PT1H
BEGIN:VTIMEZONE
TZID:America/Chicago
BEGIN:DAYLIGHT
TZOFFSETFROM:-0600
TZOFFSETTO:-0500
TZNAME:CDT
DTSTART:20250309T080000
END:DAYLIGHT
BEGIN:STANDARD
TZOFFSETFROM:-0500
TZOFFSETTO:-0600
TZNAME:CST
DTSTART:20251102T070000
END:STANDARD
BEGIN:DAYLIGHT
TZOFFSETFROM:-0600
TZOFFSETTO:-0500
TZNAME:CDT
DTSTART:20260308T080000
END:DAYLIGHT
BEGIN:STANDARD
TZOFFSETFROM:-0500
TZOFFSETTO:-0600
TZNAME:CST
DTSTART:20261101T070000
END:STANDARD
BEGIN:DAYLIGHT
TZOFFSETFROM:-0600
TZOFFSETTO:-0500
TZNAME:CDT
DTSTART:20270314T080000
END:DAYLIGHT
BEGIN:STANDARD
TZOFFSETFROM:-0500
TZOFFSETTO:-0600
TZNAME:CST
DTSTART:20271107T070000
END:STANDARD
END:VTIMEZONE
BEGIN:VEVENT
DTSTART;TZID=America/Chicago:20260519T000000
DTEND;TZID=America/Chicago:20260519T060000
DTSTAMP:20260423T071812
CREATED:20260422T205108Z
LAST-MODIFIED:20260422T205150Z
UID:1839-1779148800-1779170400@cityofhurleywi.org
SUMMARY:City-Wide Water System Flushing – Area 2
DESCRIPTION:In an effort to maintain water quality and remove accumulated sediment from its water distribution mains\, the City of Hurley Water Department will conduct hydrant flushing the week of May 18th\, 2026. Flushing will occur between the hours of 12:00 a.m. and 6:00 a.m. on Monday through Thursday early morning hours to reduce the inconvenience to the public. \nCustomers may experience discolored water and lower than normal water pressure during these dates and times. Inquiries may be directed to the City of Hurley Public Works Department at 715-561-2160 or the City of Hurley Clerk’s Office at 715-561-4715. \nArea 2     (May 19th\, 2026) \n                West of County Highway C to the City of Montreal Border \n                (All of the Industrial Park and Cary Location) \n  \nThank you in advance for your understanding\, \nScott Santini \nDirector of Public Works
URL:https://cityofhurleywi.org/event/city-wide-water-system-flushing-area-2-2/
CATEGORIES:Community
ATTACH;FMTTYPE=image/jpeg:https://cdn.townweb.com/cityofhurleywi.org/wp-content/uploads/2026/04/Hydrant.jpg
END:VEVENT
END:VCALENDAR